BEGIN:VCALENDAR
METHOD:PUBLISH
PRODID:www-facs-core-erlangen-de//Events//DE
VERSION:2.0
BEGIN:VEVENT
SUMMARY:Ekaterina Vinogradova: Chemical Proteomic Approaches to Study 
 and Modulate T cell Function
UID:302660-ucb-events-calendar@berkeley.edu
DESCRIPTION:Speaker Institution: The Rockefeller University
DTSTART:20260514T180000Z
DTEND:20260514T190000Z
LOCATION:125 Li Ka Shing Center
DTSTAMP:20260424T015114Z
END:VEVENT
END:VCALENDAR