BEGIN:VCALENDAR
METHOD:PUBLISH
PRODID:www-facs-core-erlangen-de//Events//DE
VERSION:2.0
BEGIN:VEVENT
SUMMARY:Ana C. Anderson: Dynamic analyses reveal novel pathways that s
 hape CD8+ T cell differentiation with tumor progression
UID:302362-ucb-events-calendar@berkeley.edu
DESCRIPTION:Speaker Institution: Harvard University\, The Gene Lay Ins
 titute of Immunology and Inflammation Brigham and Women&#8217\;s Hospi
 tal and Harvard Medical School
DTSTART:20260331T180000Z
DTEND:20260331T190000Z
LOCATION:101 Weill Hall
DTSTAMP:20260423T100230Z
END:VEVENT
END:VCALENDAR